BEGIN:VCALENDAR
VERSION:2.0
PRODID:-//BBB//Events//DE
CALSCALE:GREGORIAN
BEGIN:VEVENT
UID:besenbesuch-fellbach@bbb.local
DTSTAMP:20260429T183000Z
DTSTART:20260429T183000
SUMMARY:Besenbesuch in Fellbach
LOCATION:Weingut Schlumberger\, Fellbach
DESCRIPTION:Gemuetlicher Abend mit Trollinger\, Vesperteller und Kesselfleisch.
END:VEVENT
BEGIN:VEVENT
UID:weinwanderung-remstal@bbb.local
DTSTAMP:20260513T100000Z
DTSTART:20260513T100000
SUMMARY:Weinwanderung durchs Remstal
LOCATION:Treffpunkt Bahnhof Schorndorf
DESCRIPTION:Acht Kilometer\, vier Weingueter\, ein unvergesslicher Tag.
END:VEVENT
BEGIN:VEVENT
UID:jahreshauptversammlung@bbb.local
DTSTAMP:20260606T190000Z
DTSTART:20260606T190000
SUMMARY:Jahreshauptversammlung 2026
LOCATION:Vereinsheim\, Waiblingen
DESCRIPTION:Rueckblick\, Ausblick und gemeinsames Anstossen.
END:VEVENT
BEGIN:VEVENT
UID:sommerfest-2025@bbb.local
DTSTAMP:20260221T160000Z
DTSTART:20260221T160000
SUMMARY:Sommerfest 2025
LOCATION:Weingut Klopfer\, Weinstadt
DESCRIPTION:Unser groesstes Fest des Jahres mit Live-Musik und offenen Fassweinen.
END:VEVENT
END:VCALENDAR
